BEGIN:VCALENDAR
VERSION:2.0
PRODID:-//wp-events-plugin.com//7.2.3.1//EN
TZID:Europe/London
X-WR-TIMEZONE:Europe/London
BEGIN:VEVENT
UID:60@vintageengineenthusiast.com
DTSTART;TZID=Europe/London;VALUE=DATE:20250725
DTEND;TZID=Europe/London;VALUE=DATE:20250728
DTSTAMP:20250610T200634Z
URL:https://vintageengineenthusiast.com/events/great-north-steam-fair/
SUMMARY:Great North Steam Fair
DESCRIPTION:Welcome to The GREAT NORTH STEAM FAIR\nVENUE - Welburn Park –
  Kirbymoorside - A170 North Yorkshire\nPickering 6 miles\n\nPOSTCODE – Y
 O62 7HQ\n\nOPEN – Friday 10am till 6pm\n\nSaturday – 10am till 10pm\n\
 nSunday 10am till 5pm\n\nBUS ROUTE - SCARBOROUGH and DISTRICT 128\n\nScarb
 orough – Pickering – Helmsley\n\nJoin the fun and have a fantastic wee
 kend at the GREAT NORTH STEAM FAIR. Its easy access from the A170\, just 6
  miles east of Pickering on the road to Helmsley.\nJUST a taste of what’
 s on\n\n 	The sights and sounds of the powerful Traction Engines climbing 
 up the bank\n 	All Action Tractor Pulling with Three Sledges\n 	Listen to 
 the Fairground Organs\n 	Enjoy the Stage Shows\n 	Display of Classic Cars\
 n 	See a selection of Vintage Motorcycles\n 	Ride on the Huge Modern Fair\
 n 	Collections of Vintage Tractors\n 	Working Saw-Benches and Threshing Se
 ts\n 	Miniature Steam Engines in action\n 	Classic Lorries on Display\n 	O
 ld Time Fairground Rides and Stalls\n 	Enjoy the Children’s Area\n 	Disc
 over the Autojumble and Collectors Markets\n 	Yorkshire Craft Marquee\n 	F
 ully Licensed and Authentic Cider Bar\n 	Don’t miss the Arena Entertainm
 ent\n 	Full programme of entertainment for all staying on site\n 	AND MORE
 \n\nAdmission\nON THE DAY Admission\n\nAdults £15\n\nUnder 16 £5\n\nUnde
 r 5 free\n\nFamily ticket (2 Adults 3 Children) £25\n\nFree Car Parking\n
 \nADVANCE TICKETS (Click here to BOOK NOW !! - Limited Availability)\n\nAd
 ults £10\n\nUnder 16 £5\n\nUnder 5 free\n\nFamily ticket (2 Adults 3 Chi
 ldren) £20\n\nFree Car Parking
ATTACH;FMTTYPE=image/jpeg:https://vintageengineenthusiast.com/wp-content/u
 ploads/2025/06/Great-North-Steam-Fair.png
CATEGORIES:Show
LOCATION:Ryedale Showground\, Kirbymoorside\, Yorkshire\, YO62 7HQ\, United
  Kingdom
X-APPLE-STRUCTURED-LOCATION;VALUE=URI;X-ADDRESS=Kirbymoorside\, Yorkshire\,
  YO62 7HQ\, United Kingdom;X-APPLE-RADIUS=100;X-TITLE=Ryedale Showground:g
 eo:0,0
END:VEVENT
BEGIN:VTIMEZONE
TZID:Europe/London
X-LIC-LOCATION:Europe/London
BEGIN:DAYLIGHT
DTSTART:20250330T020000
TZOFFSETFROM:+0000
TZOFFSETTO:+0100
TZNAME:BST
END:DAYLIGHT
END:VTIMEZONE
END:VCALENDAR